Package: IRanges Version: 2.41.3 Command: rm -rf IRanges.buildbin-libdir && mkdir IRanges.buildbin-libdir && /Users/biocbuild/BBS/utils/build-universal.sh IRanges_2.41.3.tar.gz /Library/Frameworks/R.framework/Resources/bin/R IRanges.buildbin-libdir StartedAt: 2025-02-13 00:42:04 -0500 (Thu, 13 Feb 2025) EndedAt: 2025-02-13 00:43:29 -0500 (Thu, 13 Feb 2025) EllapsedTime: 84.5 seconds RetCode: 0 Status: OK PackageFile: IRanges_2.41.3.tgz PackageFileSize: 2.236 MiB