Package: IRanges Version: 2.41.2 Command: /home/biocbuild/bbs-3.21-bioc/R/bin/R CMD check --install=check:IRanges.install-out.txt --library=/home/biocbuild/bbs-3.21-bioc/R/site-library --timings IRanges_2.41.2.tar.gz StartedAt: 2025-02-09 23:26:31 -0500 (Sun, 09 Feb 2025) EndedAt: 2025-02-09 23:29:28 -0500 (Sun, 09 Feb 2025) EllapsedTime: 176.2 seconds RetCode: 1 Status: ERROR CheckDir: IRanges.Rcheck Warnings: NA