Package: IRanges Version: 2.41.2 Command: rm -rf IRanges.buildbin-libdir && mkdir IRanges.buildbin-libdir && E:\biocbuild\bbs-3.21-bioc\R\bin\R.exe CMD INSTALL --build --library=IRanges.buildbin-libdir IRanges_2.41.2.tar.gz StartedAt: 2025-02-10 07:59:08 -0500 (Mon, 10 Feb 2025) EndedAt: 2025-02-10 08:04:22 -0500 (Mon, 10 Feb 2025) EllapsedTime: 314.6 seconds RetCode: 0 Status: OK PackageFile: IRanges_2.41.2.zip PackageFileSize: 2.239 MiB