Package: IRanges Version: 2.41.2 Command: chmod a+r IRanges -R && E:\biocbuild\bbs-3.21-bioc\R\bin\R.exe CMD build --keep-empty-dirs --no-resave-data IRanges StartedAt: 2025-02-09 19:25:41 -0500 (Sun, 09 Feb 2025) EndedAt: 2025-02-09 19:28:07 -0500 (Sun, 09 Feb 2025) EllapsedTime: 146.4 seconds RetCode: 0 Status: OK PackageFile: IRanges_2.41.2.tar.gz PackageFileSize: 470.3 KiB