Package: IRanges Version: 2.41.2 Command: E:\biocbuild\bbs-3.21-bioc\R\bin\R.exe CMD check --no-multiarch --install=check:IRanges.install-out.txt --library=E:\biocbuild\bbs-3.21-bioc\R\library --no-vignettes --timings IRanges_2.41.2.tar.gz StartedAt: 2025-02-10 02:11:57 -0500 (Mon, 10 Feb 2025) EndedAt: 2025-02-10 02:15:36 -0500 (Mon, 10 Feb 2025) EllapsedTime: 218.7 seconds RetCode: 1 Status: ERROR CheckDir: IRanges.Rcheck Warnings: NA