Package: IRanges Version: 2.41.2 Command: E:\biocbuild\bbs-3.21-bioc\R\bin\R.exe CMD INSTALL IRanges StartedAt: 2025-02-09 15:25:44 -0500 (Sun, 09 Feb 2025) EndedAt: 2025-02-09 15:29:52 -0500 (Sun, 09 Feb 2025) EllapsedTime: 248.4 seconds RetCode: 0 Status: OK