Package: ITALICS Version: 2.67.0 Command: /Library/Frameworks/R.framework/Resources/bin/R CMD INSTALL ITALICS StartedAt: 2025-02-04 15:07:42 -0500 (Tue, 04 Feb 2025) EndedAt: 2025-02-04 15:07:42 -0500 (Tue, 04 Feb 2025) EllapsedTime: 0.5 seconds RetCode: 1 Status: ERROR