############################################################################## ############################################################################## ### ### Running command: ### ### /home/biocbuild/R/R/bin/R CMD build --keep-empty-dirs --no-resave-data ITALICS ### ############################################################################## ############################################################################## * checking for file ‘ITALICS/DESCRIPTION’ ... OK * preparing ‘ITALICS’: * checking DESCRIPTION meta-information ... OK * installing the package to build vignettes ----------------------------------- ERROR: dependencies ‘GLAD’, ‘oligo’, ‘pd.mapping50k.xba240’ are not available for package ‘ITALICS’ Perhaps try a variation of: install.packages(c('GLAD', 'oligo', 'pd.mapping50k.xba240')) * removing ‘/home/biocbuild/tmp/RtmpH6LFcm/Rinstb463e61a8d3a1/ITALICS’ ----------------------------------- ERROR: package installation failed