############################################################################## ############################################################################## ### ### Running command: ### ### /home/biocbuild/R/R/bin/R CMD INSTALL ITALICS ### ############################################################################## ############################################################################## * installing to library ‘/home/biocbuild/R/R-4.5.0-devel_2024-11-24/site-library’ ERROR: dependencies ‘GLAD’, ‘oligo’, ‘pd.mapping50k.xba240’ are not available for package ‘ITALICS’ Perhaps try a variation of: install.packages(c('GLAD', 'oligo', 'pd.mapping50k.xba240')) * removing ‘/home/biocbuild/R/R-4.5.0-devel_2024-11-24/site-library/ITALICS’