Package: ITALICS Version: 2.67.0 Command: /home/biocbuild/R/R/bin/R CMD INSTALL ITALICS StartedAt: 2025-01-29 19:48:37 -0000 (Wed, 29 Jan 2025) EndedAt: 2025-01-29 19:48:38 -0000 (Wed, 29 Jan 2025) EllapsedTime: 0.5 seconds RetCode: 1 Status: ERROR