Package: ITALICS Version: 2.67.0 Command: /Library/Frameworks/R.framework/Resources/bin/R CMD build --keep-empty-dirs --no-resave-data ITALICS StartedAt: 2025-02-04 17:09:13 -0500 (Tue, 04 Feb 2025) EndedAt: 2025-02-04 17:09:14 -0500 (Tue, 04 Feb 2025) EllapsedTime: 1.2 seconds RetCode: 1 Status: ERROR PackageFile: None PackageFileSize: NA