Package: ITALICS Version: 2.67.0 Command: /Library/Frameworks/R.framework/Resources/bin/R CMD INSTALL ITALICS StartedAt: 2025-02-04 15:13:47 -0500 (Tue, 04 Feb 2025) EndedAt: 2025-02-04 15:13:49 -0500 (Tue, 04 Feb 2025) EllapsedTime: 2.0 seconds RetCode: 1 Status: ERROR