Package: ITALICS Version: 2.67.0 Command: /home/biocbuild/bbs-3.21-bioc/R/bin/R CMD check --install=check:ITALICS.install-out.txt --library=/home/biocbuild/bbs-3.21-bioc/R/site-library --timings ITALICS_2.67.0.tar.gz StartedAt: 2025-01-21 23:24:03 -0500 (Tue, 21 Jan 2025) EndedAt: 2025-01-21 23:27:21 -0500 (Tue, 21 Jan 2025) EllapsedTime: 198.2 seconds RetCode: 0 Status: OK CheckDir: ITALICS.Rcheck Warnings: 0