Package: ITALICS Version: 2.67.0 Command: /home/biocbuild/bbs-3.21-bioc/R/bin/R CMD INSTALL ITALICS StartedAt: 2025-02-04 15:55:09 -0500 (Tue, 04 Feb 2025) EndedAt: 2025-02-04 15:55:10 -0500 (Tue, 04 Feb 2025) EllapsedTime: 1.0 seconds RetCode: 1 Status: ERROR