Package: ITALICS Version: 2.67.0 Command: rm -rf ITALICS.buildbin-libdir && mkdir ITALICS.buildbin-libdir && E:\biocbuild\bbs-3.21-bioc\R\bin\R.exe CMD INSTALL --build --library=ITALICS.buildbin-libdir ITALICS_2.67.0.tar.gz StartedAt: 2025-01-22 07:52:01 -0500 (Wed, 22 Jan 2025) EndedAt: 2025-01-22 07:52:40 -0500 (Wed, 22 Jan 2025) EllapsedTime: 39.2 seconds RetCode: 0 Status: OK PackageFile: ITALICS_2.67.0.zip PackageFileSize: 414.4 KiB