############################################################################## ############################################################################## ### ### Running command: ### ### chmod a+r ITALICS -R && E:\biocbuild\bbs-3.21-bioc\R\bin\R.exe CMD build --keep-empty-dirs --no-resave-data ITALICS ### ############################################################################## ############################################################################## * checking for file 'ITALICS/DESCRIPTION' ... OK * preparing 'ITALICS': * checking DESCRIPTION meta-information ... OK * installing the package to build vignettes ----------------------------------- ERROR: dependency 'GLAD' is not available for package 'ITALICS' Perhaps try a variation of: install.packages('GLAD') * removing 'E:/biocbuild/bbs-3.21-bioc/tmpdir/RtmpM7b4Kx/Rinst17b54280779b4/ITALICS' ----------------------------------- ERROR: package installation failed