Package: ITALICS Version: 2.67.0 Command: chmod a+r ITALICS -R && E:\biocbuild\bbs-3.21-bioc\R\bin\R.exe CMD build --keep-empty-dirs --no-resave-data ITALICS StartedAt: 2025-02-04 19:31:49 -0500 (Tue, 04 Feb 2025) EndedAt: 2025-02-04 19:31:58 -0500 (Tue, 04 Feb 2025) EllapsedTime: 8.6 seconds RetCode: 1 Status: ERROR PackageFile: None PackageFileSize: NA