Package: ITALICS Version: 2.67.0 Command: E:\biocbuild\bbs-3.21-bioc\R\bin\R.exe CMD INSTALL ITALICS StartedAt: 2025-02-04 15:46:42 -0500 (Tue, 04 Feb 2025) EndedAt: 2025-02-04 15:46:44 -0500 (Tue, 04 Feb 2025) EllapsedTime: 1.2 seconds RetCode: 1 Status: ERROR