Package: IVAS Version: 2.27.0 Command: /home/biocbuild/R/R/bin/R CMD build --keep-empty-dirs --no-resave-data IVAS StartedAt: 2025-01-28 23:50:58 -0000 (Tue, 28 Jan 2025) EndedAt: 2025-01-28 23:52:25 -0000 (Tue, 28 Jan 2025) EllapsedTime: 87.0 seconds RetCode: 0 Status: OK PackageFile: IVAS_2.27.0.tar.gz PackageFileSize: 248.5 KiB