Package: IVAS Version: 2.27.0 Command: /Library/Frameworks/R.framework/Resources/bin/R CMD check --install=check:IVAS.install-out.txt --library=/Library/Frameworks/R.framework/Resources/library --no-vignettes --timings IVAS_2.27.0.tar.gz StartedAt: 2025-02-12 21:17:53 -0500 (Wed, 12 Feb 2025) EndedAt: 2025-02-12 21:23:30 -0500 (Wed, 12 Feb 2025) EllapsedTime: 337.3 seconds RetCode: 0 Status: WARNINGS CheckDir: IVAS.Rcheck Warnings: 1