Package: IVAS Version: 2.27.0 Command: /Library/Frameworks/R.framework/Resources/bin/R CMD INSTALL IVAS StartedAt: 2025-02-12 15:18:41 -0500 (Wed, 12 Feb 2025) EndedAt: 2025-02-12 15:19:34 -0500 (Wed, 12 Feb 2025) EllapsedTime: 53.8 seconds RetCode: 0 Status: OK