Package: IVAS Version: 2.27.0 Command: rm -rf IVAS.buildbin-libdir && mkdir IVAS.buildbin-libdir && E:\biocbuild\bbs-3.21-bioc\R\bin\R.exe CMD INSTALL --build --library=IVAS.buildbin-libdir IVAS_2.27.0.tar.gz StartedAt: 2025-02-10 08:00:19 -0500 (Mon, 10 Feb 2025) EndedAt: 2025-02-10 08:01:12 -0500 (Mon, 10 Feb 2025) EllapsedTime: 52.2 seconds RetCode: 0 Status: OK PackageFile: IVAS_2.27.0.zip PackageFileSize: 677.6 KiB