Package: IWTomics Version: 1.31.0 Command: rm -rf IWTomics.buildbin-libdir && mkdir IWTomics.buildbin-libdir && /Users/biocbuild/BBS/utils/build-universal.sh IWTomics_1.31.0.tar.gz /Library/Frameworks/R.framework/Resources/bin/R IWTomics.buildbin-libdir StartedAt: 2025-02-09 22:18:48 -0500 (Sun, 09 Feb 2025) EndedAt: 2025-02-09 22:18:57 -0500 (Sun, 09 Feb 2025) EllapsedTime: 8.2 seconds RetCode: 0 Status: OK PackageFile: IWTomics_1.31.0.tgz PackageFileSize: 1.783 MiB