Package: IWTomics Version: 1.31.0 Command: /Library/Frameworks/R.framework/Resources/bin/R CMD build --keep-empty-dirs --no-resave-data IWTomics StartedAt: 2025-02-09 16:44:45 -0500 (Sun, 09 Feb 2025) EndedAt: 2025-02-09 16:45:23 -0500 (Sun, 09 Feb 2025) EllapsedTime: 37.4 seconds RetCode: 0 Status: OK PackageFile: IWTomics_1.31.0.tar.gz PackageFileSize: 1.404 MiB