Package: IWTomics Version: 1.31.0 Command: /home/biocbuild/R/R/bin/R CMD build --keep-empty-dirs --no-resave-data IWTomics StartedAt: 2025-01-28 23:51:13 -0000 (Tue, 28 Jan 2025) EndedAt: 2025-01-28 23:54:22 -0000 (Tue, 28 Jan 2025) EllapsedTime: 189.1 seconds RetCode: 0 Status: OK PackageFile: IWTomics_1.31.0.tar.gz PackageFileSize: 1.408 MiB