Package: IWTomics Version: 1.31.0 Command: /home/biocbuild/R/R/bin/R CMD check --install=check:IWTomics.install-out.txt --library=/home/biocbuild/R/R/site-library --no-vignettes --timings IWTomics_1.31.0.tar.gz StartedAt: 2025-01-28 11:49:28 -0000 (Tue, 28 Jan 2025) EndedAt: 2025-01-28 11:54:12 -0000 (Tue, 28 Jan 2025) EllapsedTime: 284.4 seconds RetCode: 0 Status: WARNINGS CheckDir: IWTomics.Rcheck Warnings: 1