Package: IWTomics Version: 1.31.0 Command: /Library/Frameworks/R.framework/Resources/bin/R CMD check --install=check:IWTomics.install-out.txt --library=/Library/Frameworks/R.framework/Resources/library --no-vignettes --timings IWTomics_1.31.0.tar.gz StartedAt: 2025-02-12 21:18:10 -0500 (Wed, 12 Feb 2025) EndedAt: 2025-02-12 21:21:53 -0500 (Wed, 12 Feb 2025) EllapsedTime: 223.2 seconds RetCode: 0 Status: WARNINGS CheckDir: IWTomics.Rcheck Warnings: 1