Package: IWTomics Version: 1.31.0 Command: /Library/Frameworks/R.framework/Resources/bin/R CMD INSTALL IWTomics StartedAt: 2025-02-09 15:45:48 -0500 (Sun, 09 Feb 2025) EndedAt: 2025-02-09 15:46:11 -0500 (Sun, 09 Feb 2025) EllapsedTime: 23.0 seconds RetCode: 0 Status: OK