Package: IWTomics Version: 1.31.0 Command: /home/biocbuild/bbs-3.21-bioc/R/bin/R CMD INSTALL IWTomics StartedAt: 2025-02-09 15:30:03 -0500 (Sun, 09 Feb 2025) EndedAt: 2025-02-09 15:30:21 -0500 (Sun, 09 Feb 2025) EllapsedTime: 17.5 seconds RetCode: 0 Status: OK