Package: IWTomics Version: 1.31.0 Command: rm -rf IWTomics.buildbin-libdir && mkdir IWTomics.buildbin-libdir && E:\biocbuild\bbs-3.21-bioc\R\bin\R.exe CMD INSTALL --build --library=IWTomics.buildbin-libdir IWTomics_1.31.0.tar.gz StartedAt: 2025-02-10 08:00:24 -0500 (Mon, 10 Feb 2025) EndedAt: 2025-02-10 08:01:23 -0500 (Mon, 10 Feb 2025) EllapsedTime: 59.1 seconds RetCode: 0 Status: OK PackageFile: IWTomics_1.31.0.zip PackageFileSize: 1.633 MiB