Package: IWTomics Version: 1.31.0 Command: E:\biocbuild\bbs-3.21-bioc\R\bin\R.exe CMD INSTALL IWTomics StartedAt: 2025-02-09 16:59:58 -0500 (Sun, 09 Feb 2025) EndedAt: 2025-02-09 17:00:35 -0500 (Sun, 09 Feb 2025) EllapsedTime: 37.0 seconds RetCode: 0 Status: OK