Package: Icens Version: 1.79.0 Command: /Library/Frameworks/R.framework/Resources/bin/R CMD INSTALL Icens StartedAt: 2025-02-09 15:19:24 -0500 (Sun, 09 Feb 2025) EndedAt: 2025-02-09 15:19:26 -0500 (Sun, 09 Feb 2025) EllapsedTime: 2.3 seconds RetCode: 0 Status: OK