Package: Icens Version: 1.79.0 Command: rm -rf Icens.buildbin-libdir && mkdir Icens.buildbin-libdir && /Users/biocbuild/BBS/utils/build-universal.sh Icens_1.79.0.tar.gz /Library/Frameworks/R.framework/Resources/bin/R Icens.buildbin-libdir StartedAt: 2025-02-10 00:58:18 -0500 (Mon, 10 Feb 2025) EndedAt: 2025-02-10 00:58:31 -0500 (Mon, 10 Feb 2025) EllapsedTime: 12.7 seconds RetCode: 0 Status: OK PackageFile: Icens_1.79.0.tgz PackageFileSize: 109.3 KiB