Package: Icens Version: 1.79.0 Command: /Library/Frameworks/R.framework/Resources/bin/R CMD check --install=check:Icens.install-out.txt --library=/Library/Frameworks/R.framework/Resources/library --no-vignettes --timings Icens_1.79.0.tar.gz StartedAt: 2025-02-09 21:21:06 -0500 (Sun, 09 Feb 2025) EndedAt: 2025-02-09 21:21:50 -0500 (Sun, 09 Feb 2025) EllapsedTime: 43.7 seconds RetCode: 0 Status: OK CheckDir: Icens.Rcheck Warnings: 0