Package: Icens Version: 1.79.0 Command: /home/biocbuild/bbs-3.21-bioc/R/bin/R CMD build --keep-empty-dirs --no-resave-data Icens StartedAt: 2025-02-12 17:38:24 -0500 (Wed, 12 Feb 2025) EndedAt: 2025-02-12 17:38:25 -0500 (Wed, 12 Feb 2025) EllapsedTime: 1.0 seconds RetCode: 0 Status: OK PackageFile: Icens_1.79.0.tar.gz PackageFileSize: 20.82 KiB