Package: Icens Version: 1.79.0 Command: rm -rf Icens.buildbin-libdir && mkdir Icens.buildbin-libdir && E:\biocbuild\bbs-3.21-bioc\R\bin\R.exe CMD INSTALL --build --library=Icens.buildbin-libdir Icens_1.79.0.tar.gz StartedAt: 2025-02-10 07:56:51 -0500 (Mon, 10 Feb 2025) EndedAt: 2025-02-10 07:57:04 -0500 (Mon, 10 Feb 2025) EllapsedTime: 13.6 seconds RetCode: 0 Status: OK PackageFile: Icens_1.79.0.zip PackageFileSize: 112.4 KiB