Package: Icens Version: 1.79.0 Command: E:\biocbuild\bbs-3.21-bioc\R\bin\R.exe CMD check --no-multiarch --install=check:Icens.install-out.txt --library=E:\biocbuild\bbs-3.21-bioc\R\library --no-vignettes --timings Icens_1.79.0.tar.gz StartedAt: 2025-02-10 02:02:16 -0500 (Mon, 10 Feb 2025) EndedAt: 2025-02-10 02:03:04 -0500 (Mon, 10 Feb 2025) EllapsedTime: 47.6 seconds RetCode: 0 Status: OK CheckDir: Icens.Rcheck Warnings: 0