Package: IdeoViz Version: 1.43.0 Command: /Library/Frameworks/R.framework/Resources/bin/R CMD build --keep-empty-dirs --no-resave-data IdeoViz StartedAt: 2025-02-04 16:39:54 -0500 (Tue, 04 Feb 2025) EndedAt: 2025-02-04 16:39:55 -0500 (Tue, 04 Feb 2025) EllapsedTime: 1.0 seconds RetCode: 0 Status: OK PackageFile: IdeoViz_1.43.0.tar.gz PackageFileSize: 411.8 KiB