Package: IdeoViz Version: 1.43.0 Command: /Library/Frameworks/R.framework/Resources/bin/R CMD check --install=check:IdeoViz.install-out.txt --library=/Library/Frameworks/R.framework/Resources/library --no-vignettes --timings IdeoViz_1.43.0.tar.gz StartedAt: 2025-02-04 19:43:19 -0500 (Tue, 04 Feb 2025) EndedAt: 2025-02-04 19:44:34 -0500 (Tue, 04 Feb 2025) EllapsedTime: 75.0 seconds RetCode: 0 Status: WARNINGS CheckDir: IdeoViz.Rcheck Warnings: 2