Package: IdeoViz Version: 1.43.0 Command: /Library/Frameworks/R.framework/Resources/bin/R CMD INSTALL IdeoViz StartedAt: 2025-02-09 15:09:35 -0500 (Sun, 09 Feb 2025) EndedAt: 2025-02-09 15:09:47 -0500 (Sun, 09 Feb 2025) EllapsedTime: 12.2 seconds RetCode: 0 Status: OK