Package: IdeoViz Version: 1.43.0 Command: /home/biocbuild/R/R/bin/R CMD INSTALL IdeoViz StartedAt: 2025-01-29 19:51:04 -0000 (Wed, 29 Jan 2025) EndedAt: 2025-01-29 19:51:44 -0000 (Wed, 29 Jan 2025) EllapsedTime: 40.1 seconds RetCode: 0 Status: OK