Package: IdeoViz Version: 1.43.0 Command: /Library/Frameworks/R.framework/Resources/bin/R CMD INSTALL IdeoViz StartedAt: 2025-02-09 15:17:45 -0500 (Sun, 09 Feb 2025) EndedAt: 2025-02-09 15:18:25 -0500 (Sun, 09 Feb 2025) EllapsedTime: 40.9 seconds RetCode: 0 Status: OK