Package: IdeoViz Version: 1.43.0 Command: rm -rf IdeoViz.buildbin-libdir && mkdir IdeoViz.buildbin-libdir && E:\biocbuild\bbs-3.21-bioc\R\bin\R.exe CMD INSTALL --build --library=IdeoViz.buildbin-libdir IdeoViz_1.43.0.tar.gz StartedAt: 2025-02-10 07:57:03 -0500 (Mon, 10 Feb 2025) EndedAt: 2025-02-10 07:57:45 -0500 (Mon, 10 Feb 2025) EllapsedTime: 41.4 seconds RetCode: 0 Status: OK PackageFile: IdeoViz_1.43.0.zip PackageFileSize: 452.2 KiB