Package: IdeoViz Version: 1.43.0 Command: E:\biocbuild\bbs-3.21-bioc\R\bin\R.exe CMD check --no-multiarch --install=check:IdeoViz.install-out.txt --library=E:\biocbuild\bbs-3.21-bioc\R\library --no-vignettes --timings IdeoViz_1.43.0.tar.gz StartedAt: 2025-02-10 02:03:20 -0500 (Mon, 10 Feb 2025) EndedAt: 2025-02-10 02:05:40 -0500 (Mon, 10 Feb 2025) EllapsedTime: 140.0 seconds RetCode: 0 Status: WARNINGS CheckDir: IdeoViz.Rcheck Warnings: 2