Package: IgGeneUsage Version: 1.21.0 Command: /home/biocbuild/R/R/bin/R CMD INSTALL IgGeneUsage StartedAt: 2025-01-29 19:41:19 -0000 (Wed, 29 Jan 2025) EndedAt: 2025-01-29 19:57:10 -0000 (Wed, 29 Jan 2025) EllapsedTime: 950.4 seconds RetCode: 1 Status: ERROR