Package: IgGeneUsage Version: 1.21.0 Command: /Library/Frameworks/R.framework/Resources/bin/R CMD build --keep-empty-dirs --no-resave-data IgGeneUsage StartedAt: 2025-02-12 17:05:29 -0500 (Wed, 12 Feb 2025) EndedAt: 2025-02-12 17:21:05 -0500 (Wed, 12 Feb 2025) EllapsedTime: 935.4 seconds RetCode: 0 Status: OK PackageFile: IgGeneUsage_1.21.0.tar.gz PackageFileSize: 1.204 MiB