Package: IgGeneUsage Version: 1.21.0 Command: /Library/Frameworks/R.framework/Resources/bin/R CMD INSTALL IgGeneUsage StartedAt: 2025-02-09 15:11:19 -0500 (Sun, 09 Feb 2025) EndedAt: 2025-02-09 15:21:24 -0500 (Sun, 09 Feb 2025) EllapsedTime: 604.5 seconds RetCode: 0 Status: OK