Package: IgGeneUsage Version: 1.21.0 Command: chmod a+r IgGeneUsage -R && E:\biocbuild\bbs-3.21-bioc\R\bin\R.exe CMD build --keep-empty-dirs --no-resave-data IgGeneUsage StartedAt: 2025-02-09 19:19:48 -0500 (Sun, 09 Feb 2025) EndedAt: 2025-02-09 19:42:28 -0500 (Sun, 09 Feb 2025) EllapsedTime: 1359.1 seconds RetCode: 0 Status: OK PackageFile: IgGeneUsage_1.21.0.tar.gz PackageFileSize: 600.5 KiB