Package: InPAS Version: 2.15.2 Command: /Library/Frameworks/R.framework/Resources/bin/R CMD INSTALL InPAS StartedAt: 2025-02-12 15:13:38 -0500 (Wed, 12 Feb 2025) EndedAt: 2025-02-12 15:13:56 -0500 (Wed, 12 Feb 2025) EllapsedTime: 18.3 seconds RetCode: 0 Status: OK