Package: InPAS Version: 2.15.2 Command: rm -rf InPAS.buildbin-libdir && mkdir InPAS.buildbin-libdir && /Users/biocbuild/BBS/utils/build-universal.sh InPAS_2.15.2.tar.gz /Library/Frameworks/R.framework/Resources/bin/R InPAS.buildbin-libdir StartedAt: 2025-02-10 00:58:44 -0500 (Mon, 10 Feb 2025) EndedAt: 2025-02-10 00:59:51 -0500 (Mon, 10 Feb 2025) EllapsedTime: 67.9 seconds RetCode: 0 Status: OK PackageFile: InPAS_2.15.2.tgz PackageFileSize: 3.439 MiB